BEGIN:VCALENDAR
VERSION:2.0
PRODID:icalendar-ruby
CALSCALE:GREGORIAN
METHOD:PUBLISH
BEGIN:VEVENT
DTSTAMP:20260422T141153Z
UID:44-203144@mayschapel.org
DTSTART:20260516T180000Z
DTEND:20260516T200000Z
CLASS:PUBLIC
CREATED:20260421T145520
DESCRIPTION:Hunt Valley Chorale is doing a free concert on May 16th at 2pm.
LAST-MODIFIED:20260421T145520
LOCATION:Worship Center
SUMMARY:Hunt Valley Chorale
URL;VALUE=URI:https://www.mayschapel.org/events/hunt-valley-chorale--44/202
 6-05-16
END:VEVENT
END:VCALENDAR
